BEGIN:VCALENDAR
VERSION:2.0
PRODID:icalendar-ruby
CALSCALE:GREGORIAN
METHOD:PUBLISH
BEGIN:VEVENT
DTSTAMP:20260425T231432Z
UID:347-7189801@olivet.bc.ca
DTSTART:20260614T190000Z
DTEND:20260614T203000Z
CLASS:PUBLIC
CREATED:20260407T113546
DESCRIPTION:High schoolers—you’re invited!\nCome hang out\, connect wit
 h other high school students\, encourage one another\, spend some meaningf
 ul time in devotion\, and enjoy great food together!\nWe have a Whatsapp g
 roup where we share updates and important information. Please email Jess (
 jess@olivet.bc.ca) if you would like to be added to the group.
LAST-MODIFIED:20260407T113546
LOCATION:
SUMMARY:High School Lunch
URL;VALUE=URI:https://www.olivet.bc.ca/events/high-school-lunch/2026-06-14
ATTACH;FILENAME=3.jpg;FMTTYPE=image/jpeg:https://dq5pwpg1q8ru0.cloudfront.n
 et/2026/03/13/20/07/14/f50aca78-efc5-446f-932b-b6954f79792d/3.jpg
END:VEVENT
END:VCALENDAR
