BEGIN:VCALENDAR
VERSION:2.0
PRODID:icalendar-ruby
CALSCALE:GREGORIAN
METHOD:PUBLISH
BEGIN:VEVENT
DTSTAMP:20260423T082557Z
UID:111-7500120@olivet.bc.ca
DTSTART:20200503T173000Z
DTEND:20200503T183000Z
CLASS:PUBLIC
CREATED:20260422T173135
DESCRIPTION:Worship Service
LAST-MODIFIED:20260422T173135
LOCATION:Main sanctuary
SUMMARY:Worship Service
URL;VALUE=URI:https://www.olivet.bc.ca/events/worship-service/2020-05-03
END:VEVENT
END:VCALENDAR
