BEGIN:VCALENDAR
VERSION:2.0
PRODID:icalendar-ruby
CALSCALE:GREGORIAN
METHOD:PUBLISH
BEGIN:VEVENT
DTSTAMP:20260419T131958Z
UID:111-7422483@olivet.bc.ca
DTSTART:20200517T173000Z
DTEND:20200517T183000Z
CLASS:PUBLIC
CREATED:20260419T030108
DESCRIPTION:Worship Service
LAST-MODIFIED:20260419T030108
LOCATION:Main sanctuary
SUMMARY:Worship Service
URL;VALUE=URI:https://www.olivet.bc.ca/events/worship-service/2020-05-17
END:VEVENT
END:VCALENDAR
