BEGIN:VCALENDAR
VERSION:2.0
PRODID:icalendar-ruby
CALSCALE:GREGORIAN
METHOD:PUBLISH
BEGIN:VEVENT
DTSTAMP:20260419T144733Z
UID:111-7425858@olivet.bc.ca
DTSTART:20200524T173000Z
DTEND:20200524T183000Z
CLASS:PUBLIC
CREATED:20260419T064409
DESCRIPTION:Worship Service
LAST-MODIFIED:20260419T064409
LOCATION:Main sanctuary
SUMMARY:Worship Service
URL;VALUE=URI:https://www.olivet.bc.ca/events/worship-service/2020-05-24
END:VEVENT
END:VCALENDAR
