BEGIN:VCALENDAR
VERSION:2.0
PRODID:icalendar-ruby
CALSCALE:GREGORIAN
METHOD:PUBLISH
BEGIN:VEVENT
DTSTAMP:20260419T175141Z
UID:111-7429234@olivet.bc.ca
DTSTART:20200607T173000Z
DTEND:20200607T183000Z
CLASS:PUBLIC
CREATED:20260419T102557
DESCRIPTION:Worship Service
LAST-MODIFIED:20260419T102557
LOCATION:Main sanctuary
SUMMARY:Worship Service
URL;VALUE=URI:https://www.olivet.bc.ca/events/worship-service/2020-06-07
END:VEVENT
END:VCALENDAR
