BEGIN:VCALENDAR
VERSION:2.0
PRODID:icalendar-ruby
CALSCALE:GREGORIAN
METHOD:PUBLISH
BEGIN:VEVENT
DTSTAMP:20260420T001804Z
UID:111-7432612@olivet.bc.ca
DTSTART:20200705T173000Z
DTEND:20200705T183000Z
CLASS:PUBLIC
CREATED:20260419T140832
DESCRIPTION:Worship Service
LAST-MODIFIED:20260419T140832
LOCATION:Main sanctuary
SUMMARY:Worship Service
URL;VALUE=URI:https://www.olivet.bc.ca/events/worship-service/2020-07-05
END:VEVENT
END:VCALENDAR
