BEGIN:VCALENDAR
VERSION:2.0
PRODID:icalendar-ruby
CALSCALE:GREGORIAN
METHOD:PUBLISH
BEGIN:VEVENT
DTSTAMP:20260420T032912Z
UID:111-7435989@olivet.bc.ca
DTSTART:20200719T173000Z
DTEND:20200719T183000Z
CLASS:PUBLIC
CREATED:20260419T175012
DESCRIPTION:Worship Service
LAST-MODIFIED:20260419T175012
LOCATION:Main sanctuary
SUMMARY:Worship Service
URL;VALUE=URI:https://www.olivet.bc.ca/events/worship-service/2020-07-19
END:VEVENT
END:VCALENDAR
