BEGIN:VCALENDAR
VERSION:2.0
PRODID:icalendar-ruby
CALSCALE:GREGORIAN
METHOD:PUBLISH
BEGIN:VEVENT
DTSTAMP:20260420T051405Z
UID:111-7439365@olivet.bc.ca
DTSTART:20200726T173000Z
DTEND:20200726T183000Z
CLASS:PUBLIC
CREATED:20260419T212704
DESCRIPTION:Worship Service
LAST-MODIFIED:20260419T212704
LOCATION:Main sanctuary
SUMMARY:Worship Service
URL;VALUE=URI:https://www.olivet.bc.ca/events/worship-service/2020-07-26
END:VEVENT
END:VCALENDAR
