BEGIN:VCALENDAR
VERSION:2.0
PRODID:icalendar-ruby
CALSCALE:GREGORIAN
METHOD:PUBLISH
BEGIN:VEVENT
DTSTAMP:20260422T083435Z
UID:111-7479872@olivet.bc.ca
DTSTART:20200809T173000Z
DTEND:20200809T183000Z
CLASS:PUBLIC
CREATED:20260421T160722
DESCRIPTION:Worship Service
LAST-MODIFIED:20260421T160722
LOCATION:Main sanctuary
SUMMARY:Worship Service
URL;VALUE=URI:https://www.olivet.bc.ca/events/worship-service/2020-08-09
END:VEVENT
END:VCALENDAR
