BEGIN:VCALENDAR
VERSION:2.0
PRODID:icalendar-ruby
CALSCALE:GREGORIAN
METHOD:PUBLISH
BEGIN:VEVENT
DTSTAMP:20260422T115144Z
UID:111-7483250@olivet.bc.ca
DTSTART:20200823T173000Z
DTEND:20200823T183000Z
CLASS:PUBLIC
CREATED:20260422T030056
DESCRIPTION:Worship Service
LAST-MODIFIED:20260422T030056
LOCATION:Main sanctuary
SUMMARY:Worship Service
URL;VALUE=URI:https://www.olivet.bc.ca/events/worship-service/2020-08-23
END:VEVENT
END:VCALENDAR
