BEGIN:VCALENDAR
VERSION:2.0
PRODID:icalendar-ruby
CALSCALE:GREGORIAN
METHOD:PUBLISH
BEGIN:VEVENT
DTSTAMP:20260422T151741Z
UID:111-7486628@olivet.bc.ca
DTSTART:20200906T173000Z
DTEND:20200906T183000Z
CLASS:PUBLIC
CREATED:20260422T055459
DESCRIPTION:Worship Service
LAST-MODIFIED:20260422T055459
LOCATION:Main sanctuary
SUMMARY:Worship Service
URL;VALUE=URI:https://www.olivet.bc.ca/events/worship-service/2020-09-06
END:VEVENT
END:VCALENDAR
