BEGIN:VCALENDAR
VERSION:2.0
PRODID:icalendar-ruby
CALSCALE:GREGORIAN
METHOD:PUBLISH
BEGIN:VEVENT
DTSTAMP:20260422T164706Z
UID:111-7490005@olivet.bc.ca
DTSTART:20200913T173000Z
DTEND:20200913T183000Z
CLASS:PUBLIC
CREATED:20260422T085020
DESCRIPTION:Worship Service
LAST-MODIFIED:20260422T085020
LOCATION:Main sanctuary
SUMMARY:Worship Service
URL;VALUE=URI:https://www.olivet.bc.ca/events/worship-service/2020-09-13
END:VEVENT
END:VCALENDAR
