BEGIN:VCALENDAR
VERSION:2.0
PRODID:icalendar-ruby
CALSCALE:GREGORIAN
METHOD:PUBLISH
BEGIN:VEVENT
DTSTAMP:20260422T181135Z
UID:111-7490006@olivet.bc.ca
DTSTART:20200920T173000Z
DTEND:20200920T183000Z
CLASS:PUBLIC
CREATED:20260422T085020
DESCRIPTION:Worship Service
LAST-MODIFIED:20260422T085020
LOCATION:Main sanctuary
SUMMARY:Worship Service
URL;VALUE=URI:https://www.olivet.bc.ca/events/worship-service/2020-09-20
END:VEVENT
END:VCALENDAR
