BEGIN:VCALENDAR
VERSION:2.0
PRODID:icalendar-ruby
CALSCALE:GREGORIAN
METHOD:PUBLISH
BEGIN:VEVENT
DTSTAMP:20260422T211929Z
UID:111-7493384@olivet.bc.ca
DTSTART:20201004T173000Z
DTEND:20201004T183000Z
CLASS:PUBLIC
CREATED:20260422T114443
DESCRIPTION:Worship Service
LAST-MODIFIED:20260422T114443
LOCATION:Main sanctuary
SUMMARY:Worship Service
URL;VALUE=URI:https://www.olivet.bc.ca/events/worship-service/2020-10-04
END:VEVENT
END:VCALENDAR
