BEGIN:VCALENDAR
VERSION:2.0
PRODID:icalendar-ruby
CALSCALE:GREGORIAN
METHOD:PUBLISH
BEGIN:VEVENT
DTSTAMP:20260425T104406Z
UID:111-7544399@olivet.bc.ca
DTSTART:20261101T183000Z
DTEND:20261101T193000Z
CLASS:PUBLIC
CREATED:20260425T030053
DESCRIPTION:Worship Service
LAST-MODIFIED:20260425T030053
LOCATION:Main sanctuary
SUMMARY:Worship Service
URL;VALUE=URI:https://www.olivet.bc.ca/events/worship-service/2026-11-01
END:VEVENT
END:VCALENDAR
